BEGIN:VCALENDAR
VERSION:2.0
PRODID:-//Ohio Alliance to End Sexual Violence - ECPv6.11.0.1//NONSGML v1.0//EN
CALSCALE:GREGORIAN
METHOD:PUBLISH
X-WR-CALNAME:Ohio Alliance to End Sexual Violence
X-ORIGINAL-URL:https://oaesv.org
X-WR-CALDESC:Events for Ohio Alliance to End Sexual Violence
REFRESH-INTERVAL;VALUE=DURATION:PT1H
X-Robots-Tag:noindex
X-PUBLISHED-TTL:PT1H
BEGIN:VTIMEZONE
TZID:America/New_York
BEGIN:DAYLIGHT
TZOFFSETFROM:-0500
TZOFFSETTO:-0400
TZNAME:EDT
DTSTART:20210314T070000
END:DAYLIGHT
BEGIN:STANDARD
TZOFFSETFROM:-0400
TZOFFSETTO:-0500
TZNAME:EST
DTSTART:20211107T060000
END:STANDARD
END:VTIMEZONE
BEGIN:VEVENT
DTSTART;TZID=America/New_York:20210421T120000
DTEND;TZID=America/New_York:20210421T130000
DTSTAMP:20260421T011027
CREATED:20210409T223636Z
LAST-MODIFIED:20210901T204400Z
UID:2265-1619006400-1619010000@oaesv.org
SUMMARY:Cultivating Conversations for Prevention Staff
DESCRIPTION:[vc_row][vc_column][vc_row_inner][vc_column_inner][vc_column_text]\nWe are all in this together!\nJoin OAESV staff and your peers to discuss the ways the current pandemic\, grant cuts\, and racial reckoning are affecting our work. These monthly calls are a chance for preventionists to freely share successes\, concerns\, and needs. This space will be a chance to connect free from the presence of funders. Bring your questions\, frustrations\, struggles\, and ideas to this online conversation for resource-sharing and support. \nCritical Conversations calls for prevention staff will be held on the third Wednesday of each month. \nIf you have an accessibility request please contact us in one of the following ways. Please note that if your request is received less than two weeks before the event\, we may not be able to fulfill the request: \n\nEmail us at info@oaesv.org (putting “Accessibility” in the subject line is also super helpful!)\nCall our resource line at 888-886-8388\n\n[/vc_column_text]CLICK HERE TO REGISTER [/vc_column_inner][/vc_row_inner][/vc_column][/vc_row]
URL:https://oaesv.org/calendar/cultivating-conversations-for-prevention-staff/2021-04-21/
LOCATION:Zoom
CATEGORIES:Events
ATTACH;FMTTYPE=image/jpeg:https://oaesv.org/wp-content/uploads/2021/04/covid_opengraph_image.jpg
END:VEVENT
BEGIN:VEVENT
DTSTART;TZID=America/New_York:20210421T180000
DTEND;TZID=America/New_York:20210421T200000
DTSTAMP:20260421T011027
CREATED:20210409T221346Z
LAST-MODIFIED:20250604T150203Z
UID:2248-1619028000-1619035200@oaesv.org
SUMMARY:Community Conversations for Transgender Communities
DESCRIPTION:[vc_row][vc_column][vc_row_inner][vc_column_inner width=”2/3″][vc_column_text]\nJoin OAESV as we dive into under-resourced community storytelling.\nParticipants will be receiving a $50 Visa gift card for participating in this two-hour dialogue.\nThis community conversation is reserved for those who identify as part of transgender communities and will explore the root causes of sexual violence and how they are related to other social issues. It will also address biases\, lack of equity\, and radical imagination for under-resourced communities. This discussion will come from the understanding that experiences are at the base of all of the work that we do\, and that it is needed now more than ever to provide equity for all survivors. \nSpace is limited to 15 participants[/vc_column_text]CLICK HERE TO REGISTER [/vc_column_inner][/vc_row_inner][/vc_column][/vc_row]
URL:https://oaesv.org/calendar/community-conversations-for-transgender-communities/
LOCATION:TBD
CATEGORIES:Events
ATTACH;FMTTYPE=image/png:https://oaesv.org/wp-content/uploads/2021/04/Updated-Meta-Size-No-Link-Community-Conversations-1.png
END:VEVENT
BEGIN:VEVENT
DTSTART;TZID=America/New_York:20210428T180000
DTEND;TZID=America/New_York:20210428T203000
DTSTAMP:20260421T011027
CREATED:20210416T213520Z
LAST-MODIFIED:20250604T150605Z
UID:2798-1619632800-1619641800@oaesv.org
SUMMARY:Community Conversations for Deaf and Hard of Hearing Communities in Ohio
DESCRIPTION:[vc_row][vc_column][vc_video link=”https://youtu.be/9wyKrGfsRUE”][vc_empty_space height=”64px”][vc_row_inner][vc_column_inner width=”1/2″][vc_column_text]\nJoin OAESV as we explore and learn about your life experiences through community storytelling.\nParticipants will be receiving a $50 Visa gift card for participating in this 2.5-hour dialogue.\nThis will be a Zoom meeting\, and language accommodations will be provided. \nTopics we will explore include: \n\nBrief Education: What is sexual violence\, oppression\, bias\, and equity?\nHow does sexual violence affect your community?\nWhat kind of community resources are needed?\nHow can your community heal from sexual violence with our support?\n\nThis community conversation is reserved for individuals as survivors of sexual violence who identify as Deaf\, DeafBlind\, Deaf with Low Vision\, DeafDisabled\, Late Deafened\, and hard of hearing with multiple identities residing in Ohio. \nSpace is limited to 15 participants[/vc_column_text]CLICK HERE TO REGISTER NOW [vc_column_text]\n\n[/vc_column_text][/vc_column_inner][vc_column_inner width=”1/2″][vc_single_image image=”2807″ onclick=”custom_link” img_link_target=”_blank” link=”http://oaesv-org.zoom.us/meeting/register/tJUrde6vrj0rGd3JAEQQRUxjiu5v0Ck-uBIu”][/vc_column_inner][/vc_row_inner][/vc_column][/vc_row]
URL:https://oaesv.org/calendar/community-conversations-for-deaf-and-hard-of-hearing-communities-in-ohio/
LOCATION:Zoom
CATEGORIES:Events
END:VEVENT
END:VCALENDAR