BEGIN:VCALENDAR
VERSION:2.0
PRODID:-//Ohio Alliance to End Sexual Violence - ECPv6.11.0.1//NONSGML v1.0//EN
CALSCALE:GREGORIAN
METHOD:PUBLISH
X-ORIGINAL-URL:https://oaesv.org
X-WR-CALDESC:Events for Ohio Alliance to End Sexual Violence
REFRESH-INTERVAL;VALUE=DURATION:PT1H
X-Robots-Tag:noindex
X-PUBLISHED-TTL:PT1H
BEGIN:VTIMEZONE
TZID:America/New_York
BEGIN:DAYLIGHT
TZOFFSETFROM:-0500
TZOFFSETTO:-0400
TZNAME:EDT
DTSTART:20230312T070000
END:DAYLIGHT
BEGIN:STANDARD
TZOFFSETFROM:-0400
TZOFFSETTO:-0500
TZNAME:EST
DTSTART:20231105T060000
END:STANDARD
BEGIN:DAYLIGHT
TZOFFSETFROM:-0500
TZOFFSETTO:-0400
TZNAME:EDT
DTSTART:20240310T070000
END:DAYLIGHT
BEGIN:STANDARD
TZOFFSETFROM:-0400
TZOFFSETTO:-0500
TZNAME:EST
DTSTART:20241103T060000
END:STANDARD
END:VTIMEZONE
BEGIN:VEVENT
DTSTART;TZID=America/New_York:20230608T130000
DTEND;TZID=America/New_York:20230608T150000
DTSTAMP:20260419T234110
CREATED:20230216T214725Z
LAST-MODIFIED:20230301T160918Z
UID:8002-1686229200-1686236400@oaesv.org
SUMMARY:Putting Conversations into Action
DESCRIPTION:Webinar series centering on anti-racism education\, practice\, and action within the anti-violence fields in Ohio. Hosted by the statewide working group\, Co-Conspirators in Ending Oppression (CIEO). Visit www.oaesv.org/cieo to learn more. \nAnnouncement: March 1st Event – Postponed\, will be rescheduled for a future date to be determined\n  \nREGISTER  [vc_column_text]
URL:https://oaesv.org/calendar/putting-conversations-into-action-2023-06-08/2023-06-08/
CATEGORIES:Events
END:VEVENT
BEGIN:VEVENT
DTSTART;TZID=America/New_York:20230804T130000
DTEND;TZID=America/New_York:20230804T140000
DTSTAMP:20260419T234110
CREATED:20230502T154747Z
LAST-MODIFIED:20230502T154747Z
UID:8713-1691154000-1691157600@oaesv.org
SUMMARY:OAESV Monthly Legislative Update: August First Friday Call
DESCRIPTION:[vc_row][vc_column][vc_row_inner][vc_column_inner][vc_column_text]\nOAESV Monthly Legislative Update: August First Friday Call\n\n\nJoin us for the August First Friday Call to discuss state and federal legislative/public policy updates.\n\n\n\n\n\n\n\n\n\nRegister now.[/vc_column_text][vc_column_text]\n\n[/vc_column_text][/vc_column_inner][/vc_row_inner][/vc_column][/vc_row]
URL:https://oaesv.org/calendar/oaesv-monthly-legislative-update-august-first-friday-call/
CATEGORIES:Events
ATTACH;FMTTYPE=image/png:https://oaesv.org/wp-content/uploads/2023/01/2023-First-Friday-Coalition-Manager.png
END:VEVENT
BEGIN:VEVENT
DTSTART;TZID=America/New_York:20230901T130000
DTEND;TZID=America/New_York:20230901T140000
DTSTAMP:20260419T234110
CREATED:20230502T155000Z
LAST-MODIFIED:20230502T155000Z
UID:8715-1693573200-1693576800@oaesv.org
SUMMARY:OAESV Monthly Legislative Update: September First Friday Call
DESCRIPTION:[vc_row][vc_column][vc_row_inner][vc_column_inner][vc_column_text]\nOAESV Monthly Legislative Update: September First Friday Call\n\n\nJoin us for the September First Friday Call to discuss state and federal legislative/public policy updates.\n\n\n\n\n\n\n\n\n\nRegister now.[/vc_column_text][vc_column_text]\n\n[/vc_column_text][/vc_column_inner][/vc_row_inner][/vc_column][/vc_row]
URL:https://oaesv.org/calendar/oaesv-monthly-legislative-update-september-first-friday-call/
CATEGORIES:Events
ATTACH;FMTTYPE=image/png:https://oaesv.org/wp-content/uploads/2023/01/2023-First-Friday-Coalition-Manager.png
END:VEVENT
BEGIN:VEVENT
DTSTART;TZID=America/New_York:20230908T103000
DTEND;TZID=America/New_York:20230908T143000
DTSTAMP:20260419T234110
CREATED:20230804T163032Z
LAST-MODIFIED:20230804T163032Z
UID:8996-1694169000-1694183400@oaesv.org
SUMMARY:2023 Northwest Regional Meeting
DESCRIPTION:[vc_row][vc_column][vc_single_image image=”8997″][vc_row_inner][vc_column_inner][vc_column_text]\n2023 Northwest Regional Meeting\nJoin us for Regional meetings\, a series of in-person events to connect with folks within your respective region! The day will be filled with opportunities to grow skills\, network\, and talk with others in the field about topics relevant to your region. The Northwest Regional Meeting registration deadline is August 28\, 2023.[/vc_column_text]CLICK HERE TO REGISTER NOW [vc_column_text]\n\n[/vc_column_text][vc_single_image image=”8998″][/vc_column_inner][/vc_row_inner][/vc_column][/vc_row]
URL:https://oaesv.org/calendar/2023-northwest-regional-meeting/
LOCATION:The Leipsic Community Center\, 120 E. Main St.\, Leipsic\, OH\, 45856\, United States
CATEGORIES:Events
ATTACH;FMTTYPE=image/png:https://oaesv.org/wp-content/uploads/2023/08/2.png
END:VEVENT
BEGIN:VEVENT
DTSTART;TZID=America/New_York:20230915T103000
DTEND;TZID=America/New_York:20230915T143000
DTSTAMP:20260419T234110
CREATED:20230804T163630Z
LAST-MODIFIED:20230804T163630Z
UID:9001-1694773800-1694788200@oaesv.org
SUMMARY:2023 Southwest Regional Meeting
DESCRIPTION:[vc_row][vc_column][vc_single_image image=”9002″][vc_row_inner][vc_column_inner][vc_column_text]\n2023 Southwest Regional Meeting\nJoin us for Regional meetings\, a series of in-person events to connect with folks within your respective region! The day will be filled with opportunities to grow skills\, network\, and talk with others in the field about topics relevant to your region. The Southwest Regional Meeting registration deadline is September 4\, 2023.[/vc_column_text]CLICK HERE TO REGISTER NOW [vc_column_text]\n\n[/vc_column_text][vc_single_image image=”8998″][/vc_column_inner][/vc_row_inner][/vc_column][/vc_row]
URL:https://oaesv.org/calendar/2023-southwest-regional-meeting/
LOCATION:West Carrollton Library\, 300 E Central Ave\, West Carrollton\, OH\, 45449\, United States
CATEGORIES:Events
ATTACH;FMTTYPE=image/png:https://oaesv.org/wp-content/uploads/2023/08/3.png
END:VEVENT
BEGIN:VEVENT
DTSTART;TZID=America/New_York:20230921T110000
DTEND;TZID=America/New_York:20230921T150000
DTSTAMP:20260419T234110
CREATED:20230412T155237Z
LAST-MODIFIED:20230727T191140Z
UID:8571-1695294000-1695308400@oaesv.org
SUMMARY:2023 Coordinated Community Response Team Summit
DESCRIPTION:[vc_row][vc_column][vc_row_inner][vc_column_inner][vc_column_text]Join us for the 2023 Coordinated Community Response Team Summit! At OAESV\, we believe that there is power in the collective. When we join together in community\, our shared perspective\, experience\, wisdom\, and work creates even better responses to sexual violence. Sexual Assault Response Teams (SARTs)\, Coordinated Community Response Teams (CCRTs)\, and other community partnerships create best practice\, holistic responses to sexual violence. When these teams get together in community\, we build even more power in ending sexual violence. On September 21\, we will join together in southeast Ohio to be in community with other teams and prospective teams\, and share the work that each team is doing so we can learn from one another. [/vc_column_text]CLICK HERE TO REGISTER NOW [vc_column_text]\n\n[/vc_column_text][/vc_column_inner][/vc_row_inner][/vc_column][/vc_row]
URL:https://oaesv.org/calendar/2023-ccrt-summit/
LOCATION:Puskarich Public Library\, 200 E. Market St.\, Cadiz\, OH\, 43907\, United States
CATEGORIES:Events
ATTACH;FMTTYPE=image/png:https://oaesv.org/wp-content/uploads/2023/04/CCRT-Summit-560-×-350-px-1.png
END:VEVENT
BEGIN:VEVENT
DTSTART;TZID=America/New_York:20230922T103000
DTEND;TZID=America/New_York:20230922T143000
DTSTAMP:20260419T234110
CREATED:20230804T182840Z
LAST-MODIFIED:20230906T175936Z
UID:9013-1695378600-1695393000@oaesv.org
SUMMARY:2023 Southeast Regional Meeting
DESCRIPTION:[vc_row][vc_column][vc_single_image image=”9006″][vc_row_inner][vc_column_inner][vc_column_text]\n2023 Southeast Regional Meeting\nJoin us for Regional meetings\, a series of in-person events to connect with folks within your respective region! The day will be filled with opportunities to grow skills\, network\, and talk with others in the field about topics relevant to your region. The Southeast Regional Meeting registration deadline is September 11\, 2023.[/vc_column_text]CLICK HERE TO REGISTER NOW [vc_column_text]\n\n[/vc_column_text][vc_single_image image=”8998″][/vc_column_inner][/vc_row_inner][/vc_column][/vc_row]
URL:https://oaesv.org/calendar/southeast-regional-meeting-2023/
CATEGORIES:Events
ATTACH;FMTTYPE=image/png:https://oaesv.org/wp-content/uploads/2023/08/4.png
END:VEVENT
BEGIN:VEVENT
DTSTART;TZID=America/New_York:20230928T103000
DTEND;TZID=America/New_York:20230928T143000
DTSTAMP:20260419T234110
CREATED:20230804T183140Z
LAST-MODIFIED:20230906T193221Z
UID:9015-1695897000-1695911400@oaesv.org
SUMMARY:2023 Central Regional Meeting
DESCRIPTION:[vc_row][vc_column][vc_row_inner][vc_column_inner][vc_column_text]\n2023 Central Regional Meeting\nJoin us for Regional meetings\, a series of in-person events to connect with folks within your respective region! The day will be filled with opportunities to grow skills\, network\, and talk with others in the field about topics relevant to your region. The Central Regional Meeting registration deadline is September 18\, 2023.[/vc_column_text]CLICK HERE TO REGISTER NOW [vc_column_text]\n\n[/vc_column_text][vc_single_image image=”8998″][/vc_column_inner][/vc_row_inner][/vc_column][/vc_row]
URL:https://oaesv.org/calendar/central-2023-regional-meeting/
CATEGORIES:Events
ATTACH;FMTTYPE=image/png:https://oaesv.org/wp-content/uploads/2023/08/5.png
END:VEVENT
BEGIN:VEVENT
DTSTART;TZID=America/New_York:20230929T103000
DTEND;TZID=America/New_York:20230929T143000
DTSTAMP:20260419T234110
CREATED:20230804T183548Z
LAST-MODIFIED:20230804T183548Z
UID:9017-1695983400-1695997800@oaesv.org
SUMMARY:2023 Northeast Regional Meeting
DESCRIPTION:[vc_row][vc_column][vc_single_image image=”9018″][vc_row_inner][vc_column_inner][vc_column_text]\n2023 Northeast Regional Meeting\nJoin us for Regional meetings\, a series of in-person events to connect with folks within your respective region! The day will be filled with opportunities to grow skills\, network\, and talk with others in the field about topics relevant to your region. The Northeast Regional Meeting registration deadline is September 19\, 2023.[/vc_column_text]CLICK HERE TO REGISTER NOW [vc_column_text]\n\n[/vc_column_text][vc_single_image image=”8998″][/vc_column_inner][/vc_row_inner][/vc_column][/vc_row]
URL:https://oaesv.org/calendar/2023-northeast-regional-meeting/
LOCATION:Cuyahoga Falls Library\, 2015 3rd St.\, Cuyahoga Falls\, OH\, 44221\, United States
CATEGORIES:Events
ATTACH;FMTTYPE=image/png:https://oaesv.org/wp-content/uploads/2023/08/6.png
END:VEVENT
BEGIN:VEVENT
DTSTART;TZID=America/New_York:20231006T130000
DTEND;TZID=America/New_York:20231006T140000
DTSTAMP:20260419T234110
CREATED:20230502T155153Z
LAST-MODIFIED:20230502T155153Z
UID:8718-1696597200-1696600800@oaesv.org
SUMMARY:OAESV Monthly Legislative Update: October First Friday Call
DESCRIPTION:[vc_row][vc_column][vc_row_inner][vc_column_inner][vc_column_text]\nOAESV Monthly Legislative Update: October First Friday Call\n\n\nJoin us for the October First Friday Call to discuss state and federal legislative/public policy updates.\n\n\n\n\n\n\n\n\n\nRegister now.[/vc_column_text][vc_column_text]\n\n[/vc_column_text][/vc_column_inner][/vc_row_inner][/vc_column][/vc_row]
URL:https://oaesv.org/calendar/oaesv-monthly-legislative-update-october-first-friday-call/
CATEGORIES:Events
ATTACH;FMTTYPE=image/png:https://oaesv.org/wp-content/uploads/2023/01/2023-First-Friday-Coalition-Manager.png
END:VEVENT
BEGIN:VEVENT
DTSTART;TZID=America/New_York:20231103T130000
DTEND;TZID=America/New_York:20231103T140000
DTSTAMP:20260419T234110
CREATED:20230502T155540Z
LAST-MODIFIED:20230502T155540Z
UID:8720-1699016400-1699020000@oaesv.org
SUMMARY:OAESV Monthly Legislative Update: November First Friday Call
DESCRIPTION:[vc_row][vc_column][vc_row_inner][vc_column_inner][vc_column_text]\nOAESV Monthly Legislative Update: November First Friday Call\n\n\nJoin us for the November First Friday Call to discuss state and federal legislative/public policy updates.\n\n\n\n\n\n\n\n\n\nRegister now.[/vc_column_text][vc_column_text]\n\n[/vc_column_text][/vc_column_inner][/vc_row_inner][/vc_column][/vc_row]
URL:https://oaesv.org/calendar/oaesv-monthly-legislative-update-november-first-friday-call/
CATEGORIES:Events
ATTACH;FMTTYPE=image/png:https://oaesv.org/wp-content/uploads/2023/01/2023-First-Friday-Coalition-Manager.png
END:VEVENT
BEGIN:VEVENT
DTSTART;TZID=America/New_York:20231109T090000
DTEND;TZID=America/New_York:20231110T170000
DTSTAMP:20260419T234110
CREATED:20230412T155850Z
LAST-MODIFIED:20230412T155850Z
UID:8574-1699520400-1699635600@oaesv.org
SUMMARY:2023 Coordinated Community Response Team Training Institute
DESCRIPTION:[vc_row][vc_column][vc_row_inner][vc_column_inner][vc_column_text]\n\n\nThe Coordinated Community Response Team Training Institute is a 2-day training to increase sustainable\, Sexual Assault Response Team (SART) and Coordinated Community Response Team (CCRT) trauma-informed practices. We will have workshops on trauma-informed care\, cultural humility\, and the basics of sexual assault response to increase the capacity of your team members and community to respond to sexual assault.\n\n\n\n\n\n\n\n\n\n[/vc_column_text]CLICK HERE TO REGISTER NOW [vc_column_text]\n\n[/vc_column_text][/vc_column_inner][/vc_row_inner][/vc_column][/vc_row]
URL:https://oaesv.org/calendar/2023-ccrt-training-institute/
CATEGORIES:Events
END:VEVENT
BEGIN:VEVENT
DTSTART;TZID=America/New_York:20231130T130000
DTEND;TZID=America/New_York:20231130T150000
DTSTAMP:20260419T234110
CREATED:20230216T214725Z
LAST-MODIFIED:20230301T160733Z
UID:8004-1701349200-1701356400@oaesv.org
SUMMARY:Putting Conversations into Action
DESCRIPTION:Webinar series centering on anti-racism education\, practice\, and action within the anti-violence fields in Ohio. Hosted by the statewide working group\, Co-Conspirators in Ending Oppression (CIEO). Visit www.oaesv.org.cieo to learn more. \nAnnouncement: March 1st Event – Postponed\, will be rescheduled for a future date to be determined\n  \nREGISTER  [vc_column_text]
URL:https://oaesv.org/calendar/putting-conversations-into-action-2023-11-30/
CATEGORIES:Events
END:VEVENT
BEGIN:VEVENT
DTSTART;TZID=America/New_York:20231201T130000
DTEND;TZID=America/New_York:20231201T140000
DTSTAMP:20260419T234110
CREATED:20230502T155712Z
LAST-MODIFIED:20230502T155712Z
UID:8722-1701435600-1701439200@oaesv.org
SUMMARY:OAESV Monthly Legislative Update: December First Friday Call
DESCRIPTION:[vc_row][vc_column][vc_row_inner][vc_column_inner][vc_column_text]\nOAESV Monthly Legislative Update: December First Friday Call\n\n\nJoin us for the December First Friday Call to discuss state and federal legislative/public policy updates.\n\n\n\n\n\n\n\n\n\nRegister now.[/vc_column_text][vc_column_text]\n\n[/vc_column_text][/vc_column_inner][/vc_row_inner][/vc_column][/vc_row]
URL:https://oaesv.org/calendar/oaesv-monthly-legislative-update-december-first-friday-call/
CATEGORIES:Events
ATTACH;FMTTYPE=image/png:https://oaesv.org/wp-content/uploads/2023/01/2023-First-Friday-Coalition-Manager.png
END:VEVENT
BEGIN:VEVENT
DTSTART;TZID=America/New_York:20240215T140000
DTEND;TZID=America/New_York:20240215T150000
DTSTAMP:20260419T234110
CREATED:20240111T203102Z
LAST-MODIFIED:20240805T175443Z
UID:9821-1708005600-1708009200@oaesv.org
SUMMARY:Collective Calls
DESCRIPTION:[vc_row][vc_column][vc_row_inner][vc_column_inner][vc_column_text]\nCollective Calls\nThere is power and strength in a collective! These monthly meetings are opportunities for members to build community and strength as we work together to end sexual violence. With a rotating focus each month\, Collective Calls will feature in-service trainings\, program spotlights\, and spaces to connect with those who do similar work across the state of Ohio. \n\nIn-Service\nIn-service sessions are short trainings during which participants can grow skills\, cultivate new partnerships\, and learn about developments in the field.\nProgram Spotlight\nProgram spotlight sessions are opportunities to engage with peers and build skills for giving and receiving feedback. In these sessions\, an identified program will spotlight a project or a topic and participants will have opportunities to ask clarifying questions and make recommendations.\nConnection Spaces\nConnection space sessions are opportunities to connect and be in community with those who do similar work in Ohio. In these breakout spaces\, participants will connect with their peers to discuss emerging topics related to their role(s). These spaces will feature breakout rooms for preventionists\, direct service advocates\, and SART/CCRT leaders. Additional breakout rooms may be available for rotating topic-specific conversations (to be announced).\n\n  \n\n\n\nMonth\nSession Type\nDate\n\n\nFebruary\nIn-Service\n02/15/24 (2pm-3pm)\n\n\nMarch\nProgram Spotlight\n03/21/24 (10am-11am)\n\n\nApril\nConnection Space\n04/18/24 (2pm-3pm)\n\n\nMay\nIn-Service\n05/16/24 (10am-11am)\n\n\nJune\nConnection Space\nIn-person session integrated in OAESV’s Annual Conference: 6/25-6/27\n\n\nJuly\nProgram Spotlight\n07/18/24 (10am-11am)\n\n\nAugust\nConnection Space\n08/22/24 (2pm-3pm)\n\n\nSeptember\nProgram Spotlight\n09/19/24 (10am-11am)\n\n\nOctober\nConnection Space\n10/17/24 (2pm-3pm)\n\n\nNovember\nConnection Space\n11/21/24 (10am-11am)\n\n\n\n[/vc_column_text]CLICK HERE TO REGISTER NOW [vc_column_text]\n\n[/vc_column_text][/vc_column_inner][/vc_row_inner][/vc_column][/vc_row]
URL:https://oaesv.org/calendar/collective-calls/
CATEGORIES:Events,Trainings
ATTACH;FMTTYPE=image/png:https://oaesv.org/wp-content/uploads/2024/01/1.png
END:VEVENT
BEGIN:VEVENT
DTSTART;TZID=America/New_York:20240321T100000
DTEND;TZID=America/New_York:20240321T110000
DTSTAMP:20260419T234110
CREATED:20240111T203102Z
LAST-MODIFIED:20240821T155656Z
UID:9827-1711015200-1711018800@oaesv.org
SUMMARY:Collective Calls
DESCRIPTION:[vc_row][vc_column][vc_row_inner][vc_column_inner][vc_column_text]\nCollective Calls\nThere is power and strength in a collective! These monthly meetings are opportunities for members to build community and strength as we work together to end sexual violence. With a rotating focus each month\, Collective Calls will feature in-service trainings\, program spotlights\, and spaces to connect with those who do similar work across the state of Ohio. \n\nIn-Service\nIn-service sessions are short trainings during which participants can grow skills\, cultivate new partnerships\, and learn about developments in the field.\nProgram Spotlight\nProgram spotlight sessions are opportunities to engage with peers and build skills for giving and receiving feedback. In these sessions\, an identified program will spotlight a project or a topic and participants will have opportunities to ask clarifying questions and make recommendations.\nConnection Spaces\nConnection space sessions are opportunities to connect and be in community with those who do similar work in Ohio. In these breakout spaces\, participants will connect with their peers to discuss emerging topics related to their role(s). These spaces will feature breakout rooms for preventionists\, direct service advocates\, and SART/CCRT leaders. Additional breakout rooms may be available for rotating topic-specific conversations (to be announced).\n\n  \n\n\n\nMonth\nSession Type\nDate\n\n\nFebruary\nIn-Service\n02/15/24 (2pm-3pm)\n\n\nMarch\nProgram Spotlight\n03/21/24 (10am-11am)\n\n\nApril\nConnection Space\n04/18/24 (2pm-3pm)\n\n\nMay\nIn-Service\n05/16/24 (10am-11am)\n\n\nJune\nConnection Space\nIn-person session integrated in OAESV’s Annual Conference: 6/25-6/27\n\n\nJuly\nProgram Spotlight\n07/18/24 (10am-11am)\n\n\nAugust\nIn-Service\n08/22/24 (2pm-3pm)\n\n\nSeptember\nProgram Spotlight\n09/19/24 (10am-11am)\n\n\nOctober\nConnection Space\n10/17/24 (2pm-3pm)\n\n\nNovember\nConnection Space\n11/21/24 (10am-11am)\n\n\n\n[/vc_column_text]CLICK HERE TO REGISTER NOW [vc_column_text]\n\n[/vc_column_text][/vc_column_inner][/vc_row_inner][/vc_column][/vc_row]
URL:https://oaesv.org/calendar/collective-calls-2024-08-22/2024-03-21/
CATEGORIES:Events,Trainings
ATTACH;FMTTYPE=image/png:https://oaesv.org/wp-content/uploads/2024/01/1.png
END:VEVENT
BEGIN:VEVENT
DTSTART;TZID=America/New_York:20241108T103000
DTEND;TZID=America/New_York:20241108T113000
DTSTAMP:20260419T234110
CREATED:20241101T184404Z
LAST-MODIFIED:20241101T184404Z
UID:10840-1731061800-1731065400@oaesv.org
SUMMARY:Post-Election Connection Space
DESCRIPTION:OAESV is hosting a connection and processing space on November 8\, 2024 following the U.S. General Election. Attendees will be joined by OAESV staff as we hold space to collectively process this year’s election and address any emerging community needs.\n\n\n\n\n\n\n\n\n\n\nCLICK HERE TO REGISTER NOW [vc_column_text]
URL:https://oaesv.org/calendar/post-election-connection-space/
LOCATION:Zoom
CATEGORIES:Events
ATTACH;FMTTYPE=image/png:https://oaesv.org/wp-content/uploads/2024/11/election-connection-space-2024.png
END:VEVENT
BEGIN:VEVENT
DTSTART;TZID=America/New_York:20241202T130000
DTEND;TZID=America/New_York:20241202T163000
DTSTAMP:20260419T234110
CREATED:20241025T154424Z
LAST-MODIFIED:20250421T184616Z
UID:10816-1733144400-1733157000@oaesv.org
SUMMARY:2024 SART/CCRT Summit: Bridging the Gaps
DESCRIPTION:[vc_row][vc_column][vc_row_inner][vc_column_inner][vc_column_text]\nThe SART/CCRT Summit is an opportunity for Sexual Assault Response Team (SART) and Coordinated Community Response Team (CCRT) leaders and members across the state to gather together to improve outcomes for victims and survivors across Ohio. The 2024 Summit: Bridging the Gaps will focus on eliminating crucial gaps for Ohio teams including: \n\nStatewide Sexual Assault Research: Increasing our knowledge of SARTs/CCRTs across the state is vital in creating continuum of care and efficacy of our teams. Learn about and participate in this groundbreaking research.\nSexual Assault Processes in Neighboring States: When cases cross state lines\, many barriers exist including ensuring survivors receive state specific kit tracking\, billing\, and services. Hear from some of Ohio’s neighboring states about their processes and how to connect.\nStatewide SART Meeting: Each region (northwest\, northeast\, central\, southeast\, and southwest Ohio) will have a breakout room to meet with other SART/CCRT leaders and members across the state. This facilitated meeting space will serve as a space to identify and create real time solutions for gaps in your region\, increase communication across county lines\, and serve as a connection point for stakeholders who serve multiple counties.\n\nCLICK HERE TO REGISTER NOW [vc_column_text]\nFor questions\, please email Nicole\, Director of Coordinated Community Responses\, at ncolvin@oaesv.org.[/vc_column_text]\nThis project was supported by Subgrant No. 15JOVW-23-GG-00594-STOP awarded by the state administering office for the Office on Violence Against Women\,U.S. Department of Justice’s STOP Formula Grant Program. The opinions\, findings\, conclusions\, and recommendations expressed in this publication/program/exhibition are those of the author(s) and do not necessarily reflect the views of the state or the U.S. Dept. of Justice.
URL:https://oaesv.org/calendar/2024-sart-ccrt-summit-bridging-the-gaps/
CATEGORIES:Events
END:VEVENT
END:VCALENDAR