BEGIN:VCALENDAR
VERSION:2.0
PRODID:-//Ohio Alliance to End Sexual Violence - ECPv6.11.0.1//NONSGML v1.0//EN
CALSCALE:GREGORIAN
METHOD:PUBLISH
X-ORIGINAL-URL:https://oaesv.org
X-WR-CALDESC:Events for Ohio Alliance to End Sexual Violence
REFRESH-INTERVAL;VALUE=DURATION:PT1H
X-Robots-Tag:noindex
X-PUBLISHED-TTL:PT1H
BEGIN:VTIMEZONE
TZID:America/New_York
BEGIN:DAYLIGHT
TZOFFSETFROM:-0500
TZOFFSETTO:-0400
TZNAME:EDT
DTSTART:20230312T070000
END:DAYLIGHT
BEGIN:STANDARD
TZOFFSETFROM:-0400
TZOFFSETTO:-0500
TZNAME:EST
DTSTART:20231105T060000
END:STANDARD
END:VTIMEZONE
BEGIN:VEVENT
DTSTART;TZID=America/New_York:20230126T150000
DTEND;TZID=America/New_York:20230126T160000
DTSTAMP:20260419T112259
CREATED:20221115T163435Z
LAST-MODIFIED:20221115T163435Z
UID:7471-1674745200-1674748800@oaesv.org
SUMMARY:Text/Chat Helpline: Peer Sharing Call
DESCRIPTION:Text/Chat Helpline: Peer Sharing Call\nMany programs are in the process of developing text and chat helpline services to reach more survivors. Developing and implementing a text and chat helpline can feel like a HUGE task\, but you’re not alone! Join in conversation with programs in various stages of text/chat helpline visioning\, development\, and implementation from across the state to brainstorm and learn from one another. \nJoin Zoom Meeting\nhttps://oaesv-org.zoom.us/j/88261181008?pwd=cU9PakQ2TEFhK0tMeFN5WUZ5K2Vmdz09 \nMeeting ID: 882 6118 1008\nPasscode: 724888\nOne tap mobile\n+13126266799\,\,88261181008#\,\,\,\,*724888# US (Chicago)\n+16465588656\,\,88261181008#\,\,\,\,*724888# US (New York)
URL:https://oaesv.org/calendar/text-chat-helpline-peer-sharing-call/
LOCATION:Zoom
CATEGORIES:Events
ATTACH;FMTTYPE=image/png:https://oaesv.org/wp-content/uploads/2022/11/Copy-of-Peer-sharing-call-560-×-350-px.png
END:VEVENT
END:VCALENDAR