BEGIN:VCALENDAR
VERSION:2.0
PRODID:-//Ohio Alliance to End Sexual Violence - ECPv6.11.0.1//NONSGML v1.0//EN
CALSCALE:GREGORIAN
METHOD:PUBLISH
X-ORIGINAL-URL:https://oaesv.org
X-WR-CALDESC:Events for Ohio Alliance to End Sexual Violence
REFRESH-INTERVAL;VALUE=DURATION:PT1H
X-Robots-Tag:noindex
X-PUBLISHED-TTL:PT1H
BEGIN:VTIMEZONE
TZID:America/New_York
BEGIN:DAYLIGHT
TZOFFSETFROM:-0500
TZOFFSETTO:-0400
TZNAME:EDT
DTSTART:20260308T070000
END:DAYLIGHT
BEGIN:STANDARD
TZOFFSETFROM:-0400
TZOFFSETTO:-0500
TZNAME:EST
DTSTART:20261101T060000
END:STANDARD
END:VTIMEZONE
BEGIN:VEVENT
DTSTART;TZID=America/New_York:20260508T100000
DTEND;TZID=America/New_York:20260508T153000
DTSTAMP:20260420T025835
CREATED:20260316T153940Z
LAST-MODIFIED:20260316T154021Z
UID:12592-1778234400-1778254200@oaesv.org
SUMMARY:Training Institute for Sexual Violence Advocates
DESCRIPTION:OAESV’s Training Institute for Sexual Violence Advocates is designed for advocates and rape crisis program staff who have been working in the field two years or less or are new to Ohio laws and procedures. This training fulfills the “Core Standards for Rape Crisis Programs in Ohio” requirement of 40 hours of introductory training for new staff. OAN and NOVA/NACP: meets requirements as a pre-approved training for “Introductory Advocacy” training. Approved for 37 hours of CEU credits for social workers. \nTraining Schedule: \n\n20 Hours of Asynchronous Training: Accessible 4/13/2026-5/3/2026\, completed at your own pace.\n20 Hours of Interactive Zoom Training: May 4th – 8th\, 10 am – 3:30 pm with breaks throughout the day\, including a 30-minute lunch break.\n\n*Includes breakout room discussions\, polls\, Padlet activities\, and more! Please be prepared to fully immerse and engage with your peers!\n\n\n\nThis training is for OAESV members only. If you need assistance logging into our Member Portal (Coalition Manager) or you would like to become a member\, please email info@oaesv.org for assistance. For additional information or questions\, please email training@oaesv.org. \nREGISTER HERE
URL:https://oaesv.org/calendar/training-institute-for-sexual-violence-advocates/2026-05-08/
CATEGORIES:Signature Events
ATTACH;FMTTYPE=image/png:https://oaesv.org/wp-content/uploads/2026/03/TrainingInstituteforSexualViolenceAdvocatesSpring20260856f7d8-d647-49ce-932f-26ba16f11101.png
END:VEVENT
BEGIN:VEVENT
DTSTART;TZID=America/New_York:20260623T090000
DTEND;TZID=America/New_York:20260624T170000
DTSTAMP:20260420T025835
CREATED:20260218T161437Z
LAST-MODIFIED:20260218T161437Z
UID:12515-1782205200-1782320400@oaesv.org
SUMMARY:2026 Annual Conference
DESCRIPTION:Our 2026 Annual Conference will be held in person in Columbus\, Ohio on June 23 and June 24. \nThis event will serve as a cornerstone of Hope\, Build\, Thrive\, a yearlong campaign focused on nurturing resilience\, strengthening networks\, and driving bold\, collective action to end sexual violence.    \nThis year’s theme calls on advocates\, service providers\, survivors\, and community partners to reimagine what is possible when we move forward together. We’re not just responding to harm—we’re creating a foundation for lasting change.  \nLearn more here. 
URL:https://oaesv.org/calendar/2026-annual-conference/
CATEGORIES:Signature Events
END:VEVENT
END:VCALENDAR