BEGIN:VCALENDAR
VERSION:2.0
PRODID:-//Ohio Alliance to End Sexual Violence - ECPv6.11.0.1//NONSGML v1.0//EN
CALSCALE:GREGORIAN
METHOD:PUBLISH
X-WR-CALNAME:Ohio Alliance to End Sexual Violence
X-ORIGINAL-URL:https://oaesv.org
X-WR-CALDESC:Events for Ohio Alliance to End Sexual Violence
REFRESH-INTERVAL;VALUE=DURATION:PT1H
X-Robots-Tag:noindex
X-PUBLISHED-TTL:PT1H
BEGIN:VTIMEZONE
TZID:America/New_York
BEGIN:DAYLIGHT
TZOFFSETFROM:-0500
TZOFFSETTO:-0400
TZNAME:EDT
DTSTART:20210314T070000
END:DAYLIGHT
BEGIN:STANDARD
TZOFFSETFROM:-0400
TZOFFSETTO:-0500
TZNAME:EST
DTSTART:20211107T060000
END:STANDARD
END:VTIMEZONE
BEGIN:VEVENT
DTSTART;TZID=America/New_York:20210909T093000
DTEND;TZID=America/New_York:20210909T170000
DTSTAMP:20260420T074245
CREATED:20210813T021242Z
LAST-MODIFIED:20210813T021358Z
UID:3887-1631179800-1631206800@oaesv.org
SUMMARY:Forum Title IX: Attorneys as Advisors
DESCRIPTION:[vc_row][vc_column][vc_row_inner][vc_column_inner][vc_column_text]\nJoin this 2-day training\nAttorneys\, please join us for our upcoming training\, Forum Title IX: Attorneys as Advisors. We’ll discuss Title IX of the Education Amendments Act of 1972\, as we cover the current state of the law\, roles\, processes\, appeals\, and working with survivors of trauma. Attendees will have an opportunity to practice the skills. \nEnglish captions and ASL interpretation will be provided.[/vc_column_text]CLICK HERE TO REGISTER NOW [vc_column_text]\n\n[/vc_column_text][/vc_column_inner][/vc_row_inner][/vc_column][/vc_row]
URL:https://oaesv.org/calendar/forum-title-ix-attorneys-as-advisors/2021-09-09/
LOCATION:Zoom
CATEGORIES:Trainings
ATTACH;FMTTYPE=image/png:https://oaesv.org/wp-content/uploads/2021/08/2021-Forum-TIX-TWITTER.png
END:VEVENT
BEGIN:VEVENT
DTSTART;TZID=America/New_York:20210929T120000
DTEND;TZID=America/New_York:20210929T130000
DTSTAMP:20260420T074245
CREATED:20210908T191109Z
LAST-MODIFIED:20210911T213245Z
UID:4154-1632916800-1632920400@oaesv.org
SUMMARY:September 2021 Monthly Member Webinar: Addressing Barriers to Care for LGBTQ+ Ohioans
DESCRIPTION:[vc_row][vc_column][vc_row_inner][vc_column_inner][vc_column_text]\nMEMBERS ONLY\n[/vc_column_text][/vc_column_inner][/vc_row_inner][vc_row_inner][vc_column_inner][vc_column_text]\nSeptember 2021 Monthly Webinar: Addressing Barriers to Care for LGBTQ+ Ohioans\nJoin us for our September Monthly Member Webinar with Equality Ohio – the statewide agency that identifies and transforms systems and institutions so LGBTQ+ Ohioans can fully access legal and lived equality. \nWe invite you to come learn about the systems barriers impacting LGBTQ+ individuals in Ohio. This webinar will equip service providers with tips and resources to enhance accessibility to resources and systems for LGBTQ+ clients\, along with practical information about accessing Equality Ohio’s legal clinic. \n[/vc_column_text]CLICK HERE TO REGISTER NOW [vc_column_text]\n\n[/vc_column_text][/vc_column_inner][/vc_row_inner][/vc_column][/vc_row]
URL:https://oaesv.org/calendar/september-2021-monthly-member-webinar-addressing-barriers-to-care-for-lgbtq-ohioans/
LOCATION:Zoom
CATEGORIES:Trainings
ATTACH;FMTTYPE=image/png:https://oaesv.org/wp-content/uploads/2021/09/IG_Sept-2021-Monthly-Webinar.png
END:VEVENT
END:VCALENDAR