BEGIN:VCALENDAR
VERSION:2.0
PRODID:-//Ohio Alliance to End Sexual Violence - ECPv6.11.0.1//NONSGML v1.0//EN
CALSCALE:GREGORIAN
METHOD:PUBLISH
X-WR-CALNAME:Ohio Alliance to End Sexual Violence
X-ORIGINAL-URL:https://oaesv.org
X-WR-CALDESC:Events for Ohio Alliance to End Sexual Violence
REFRESH-INTERVAL;VALUE=DURATION:PT1H
X-Robots-Tag:noindex
X-PUBLISHED-TTL:PT1H
BEGIN:VTIMEZONE
TZID:America/New_York
BEGIN:DAYLIGHT
TZOFFSETFROM:-0500
TZOFFSETTO:-0400
TZNAME:EDT
DTSTART:20220313T070000
END:DAYLIGHT
BEGIN:STANDARD
TZOFFSETFROM:-0400
TZOFFSETTO:-0500
TZNAME:EST
DTSTART:20221106T060000
END:STANDARD
END:VTIMEZONE
BEGIN:VEVENT
DTSTART;TZID=America/New_York:20221212T100000
DTEND;TZID=America/New_York:20221212T120000
DTSTAMP:20260419T094522
CREATED:20221020T204759Z
LAST-MODIFIED:20221020T204759Z
UID:7355-1670839200-1670846400@oaesv.org
SUMMARY:OAESV's 3-Part Seasonal Training Series (Winter): The Intersection of Sexual Violence & Disability
DESCRIPTION:[vc_row][vc_column][vc_row_inner][vc_column_inner][vc_column_text]\nOAESV’s 3-Part Seasonal Training Series (Winter) : The Intersection of Sexual Violence & Disability\nPart 1 of this series will provide a foundation regarding the epidemic of sexual violence against persons with disabilities. In this session\, our presenter will ask participants to challenge and address their own personal biases\, dissect the root causes of sexual violence against persons with disabilities\, and to leave with a new lens with which to practice equity and inclusivity. \nThis training is currently pending CEU certification.[/vc_column_text]CLICK HERE TO REGISTER NOW [vc_column_text]\n\n[/vc_column_text][/vc_column_inner][/vc_row_inner][/vc_column][/vc_row]
URL:https://oaesv.org/calendar/oaesvs-3-part-seasonal-training-series-winter-the-intersection-of-sexual-violence-disability/
CATEGORIES:Trainings
ATTACH;FMTTYPE=image/png:https://oaesv.org/wp-content/uploads/2022/10/2.png
END:VEVENT
END:VCALENDAR