BEGIN:VCALENDAR
VERSION:2.0
PRODID:-//Ohio Alliance to End Sexual Violence - ECPv6.11.0.1//NONSGML v1.0//EN
CALSCALE:GREGORIAN
METHOD:PUBLISH
X-ORIGINAL-URL:https://oaesv.org
X-WR-CALDESC:Events for Ohio Alliance to End Sexual Violence
REFRESH-INTERVAL;VALUE=DURATION:PT1H
X-Robots-Tag:noindex
X-PUBLISHED-TTL:PT1H
BEGIN:VTIMEZONE
TZID:America/New_York
BEGIN:DAYLIGHT
TZOFFSETFROM:-0500
TZOFFSETTO:-0400
TZNAME:EDT
DTSTART:20210314T070000
END:DAYLIGHT
BEGIN:STANDARD
TZOFFSETFROM:-0400
TZOFFSETTO:-0500
TZNAME:EST
DTSTART:20211107T060000
END:STANDARD
END:VTIMEZONE
BEGIN:VEVENT
DTSTART;TZID=America/New_York:20210412T090000
DTEND;TZID=America/New_York:20210412T170000
DTSTAMP:20260420T140313
CREATED:20210406T141847Z
LAST-MODIFIED:20210409T184730Z
UID:1512-1618218000-1618246800@oaesv.org
SUMMARY:OAESV's 2021 Advocacy Day Prep Webinar
DESCRIPTION:We’re very excited to connect with you to talk all about Advocacy Day! Come find out all that you need to know in order to make sure we all get the support we need from the Ohio legislature — #TheTimeIsNow! \nRegistration information coming soon. Please note that if you are registering to attend Advocacy Day\, it’s very important for you to attend this webinar or to watch the recording. Let’s all get on the same page so we can be even more powerful at the statehouse!
URL:https://oaesv.org/calendar/oaesvs-2021-advocacy-day-prep-webinar/
LOCATION:Online
CATEGORIES:Trainings
END:VEVENT
END:VCALENDAR